BEGIN:VCALENDAR
VERSION:2.0
PRODID:-//María Isabel Pividori - ECPv6.3.5//NONSGML v1.0//EN
CALSCALE:GREGORIAN
METHOD:PUBLISH
X-WR-CALNAME:María Isabel Pividori
X-ORIGINAL-URL:https://isabelpividori.net
X-WR-CALDESC:Events for María Isabel Pividori
REFRESH-INTERVAL;VALUE=DURATION:PT1H
X-Robots-Tag:noindex
X-PUBLISHED-TTL:PT1H
BEGIN:VTIMEZONE
TZID:Europe/Madrid
BEGIN:DAYLIGHT
TZOFFSETFROM:+0100
TZOFFSETTO:+0200
TZNAME:CEST
DTSTART:20210328T010000
END:DAYLIGHT
BEGIN:STANDARD
TZOFFSETFROM:+0200
TZOFFSETTO:+0100
TZNAME:CET
DTSTART:20211031T010000
END:STANDARD
END:VTIMEZONE
BEGIN:VEVENT
DTSTART;TZID=Europe/Madrid:20210422T100000
DTEND;TZID=Europe/Madrid:20210422T110000
DTSTAMP:20260423T212935
CREATED:20210414T075923Z
LAST-MODIFIED:20210414T075923Z
UID:6374-1619085600-1619089200@isabelpividori.net
SUMMARY:Tutoring Bioanalytical Chemistry
DESCRIPTION:
URL:https://isabelpividori.net/event/tutoring-bioanalytical-chemistry/
LOCATION:UAB\, Universitat Autònoma de Barcelona\, Bellaterra\, Barcelona\, 08193\, Spain
CATEGORIES:Bioanalytical Chemistry in Grade of Chemistry
ATTACH;FMTTYPE=image/jpeg:https://isabelpividori.net/wp-content/uploads/2020/05/online-meeting.jpg
ORGANIZER;CN="Mar%C3%ADa Isabel Pividori":MAILTO:isabel.pividori@uab.cat
END:VEVENT
END:VCALENDAR