BEGIN:VCALENDAR
VERSION:2.0
PRODID:-//María Isabel Pividori - ECPv6.3.5//NONSGML v1.0//EN
CALSCALE:GREGORIAN
METHOD:PUBLISH
X-WR-CALNAME:María Isabel Pividori
X-ORIGINAL-URL:https://isabelpividori.net
X-WR-CALDESC:Events for María Isabel Pividori
REFRESH-INTERVAL;VALUE=DURATION:PT1H
X-Robots-Tag:noindex
X-PUBLISHED-TTL:PT1H
BEGIN:VTIMEZONE
TZID:Europe/Madrid
BEGIN:DAYLIGHT
TZOFFSETFROM:+0100
TZOFFSETTO:+0200
TZNAME:CEST
DTSTART:20210328T010000
END:DAYLIGHT
BEGIN:STANDARD
TZOFFSETFROM:+0200
TZOFFSETTO:+0100
TZNAME:CET
DTSTART:20211031T010000
END:STANDARD
END:VTIMEZONE
BEGIN:VEVENT
DTSTART;VALUE=DATE:20210604
DTEND;VALUE=DATE:20210613
DTSTAMP:20260423T212855
CREATED:20210124T094731Z
LAST-MODIFIED:20210520T192048Z
UID:4711-1622768400-1623459599@isabelpividori.net
SUMMARY:Deliverable 5. Bioanalytical Chemistry laboratory report
DESCRIPTION:
URL:https://isabelpividori.net/event/deliverable-5-bioanalytical-chemistry-laboratory-report/
LOCATION:UAB\, Universitat Autònoma de Barcelona\, Bellaterra\, Barcelona\, 08193\, Spain
CATEGORIES:Bioanalytical Chemistry in Grade of Chemistry
ATTACH;FMTTYPE=image/png:https://isabelpividori.net/wp-content/uploads/2020/12/facebook_cover_photo_1-e1609020868260.png
ORGANIZER;CN="Mar%C3%ADa Isabel Pividori":MAILTO:isabel.pividori@uab.cat
END:VEVENT
BEGIN:VEVENT
DTSTART;TZID=Europe/Madrid:20210604T103000
DTEND;TZID=Europe/Madrid:20210605T005900
DTSTAMP:20260423T212855
CREATED:20210123T205116Z
LAST-MODIFIED:20210601T192933Z
UID:4615-1622802600-1622854740@isabelpividori.net
SUMMARY:QUIZ 6. Antibodies structure\, production and immunoassays
DESCRIPTION:
URL:https://isabelpividori.net/event/quiz-6-antibody-structure/
LOCATION:UAB\, Universitat Autònoma de Barcelona\, Bellaterra\, Barcelona\, 08193\, Spain
CATEGORIES:Bioanalytical Chemistry in Grade of Chemistry
ATTACH;FMTTYPE=image/jpeg:https://isabelpividori.net/wp-content/uploads/2021/01/images-2.jpeg
ORGANIZER;CN="Mar%C3%ADa Isabel Pividori":MAILTO:isabel.pividori@uab.cat
END:VEVENT
END:VCALENDAR