BEGIN:VCALENDAR
VERSION:2.0
PRODID:-//María Isabel Pividori - ECPv6.3.5//NONSGML v1.0//EN
CALSCALE:GREGORIAN
METHOD:PUBLISH
X-WR-CALNAME:María Isabel Pividori
X-ORIGINAL-URL:https://isabelpividori.net
X-WR-CALDESC:Events for María Isabel Pividori
REFRESH-INTERVAL;VALUE=DURATION:PT1H
X-Robots-Tag:noindex
X-PUBLISHED-TTL:PT1H
BEGIN:VTIMEZONE
TZID:Europe/Madrid
BEGIN:DAYLIGHT
TZOFFSETFROM:+0100
TZOFFSETTO:+0200
TZNAME:CEST
DTSTART:20220327T010000
END:DAYLIGHT
BEGIN:STANDARD
TZOFFSETFROM:+0200
TZOFFSETTO:+0100
TZNAME:CET
DTSTART:20221030T010000
END:STANDARD
END:VTIMEZONE
BEGIN:VEVENT
DTSTART;VALUE=DATE:20220221
DTEND;VALUE=DATE:20220307
DTSTAMP:20260425T193305
CREATED:20220213T094450Z
LAST-MODIFIED:20220223T050254Z
UID:7963-1645401600-1646611199@isabelpividori.net
SUMMARY:Deliverable 1. The Last Bag of Chocolate Chips
DESCRIPTION:
URL:https://isabelpividori.net/event/deliverable-1-the-last-bag-of-chocolate-chips-2/
LOCATION:Online activity
CATEGORIES:Bioanalytical Chemistry in Grade of Chemistry
ATTACH;FMTTYPE=image/jpeg:https://isabelpividori.net/wp-content/uploads/2020/03/images.jpeg
ORGANIZER;CN="Mar%C3%ADa Isabel Pividori":MAILTO:isabel.pividori@uab.cat
END:VEVENT
BEGIN:VEVENT
DTSTART;TZID=Europe/Madrid:20220222T100000
DTEND;TZID=Europe/Madrid:20220222T110000
DTSTAMP:20260425T193305
CREATED:20220207T143430Z
LAST-MODIFIED:20220207T143430Z
UID:7825-1645524000-1645527600@isabelpividori.net
SUMMARY:Separation methods of biomolecules. Electrophoresis Part 1
DESCRIPTION:
URL:https://isabelpividori.net/event/separation-methods-of-biomolecules-electrophoresis-part-1-2/
LOCATION:Room C3/012. Facultat de Ciències UAB\, UAB\, Bellaterra\, Barcelona\, 08193\, Spain
CATEGORIES:Bioanalytical Chemistry in Grade of Chemistry
ATTACH;FMTTYPE=image/jpeg:https://isabelpividori.net/wp-content/uploads/2019/04/500620C4-DD3B-4887-A8BC-3D835809A3D8.jpeg
ORGANIZER;CN="Mar%C3%ADa Isabel Pividori":MAILTO:isabel.pividori@uab.cat
END:VEVENT
END:VCALENDAR