BEGIN:VCALENDAR
VERSION:2.0
PRODID:-//María Isabel Pividori - ECPv6.3.5//NONSGML v1.0//EN
CALSCALE:GREGORIAN
METHOD:PUBLISH
X-ORIGINAL-URL:https://isabelpividori.net
X-WR-CALDESC:Events for María Isabel Pividori
REFRESH-INTERVAL;VALUE=DURATION:PT1H
X-Robots-Tag:noindex
X-PUBLISHED-TTL:PT1H
BEGIN:VTIMEZONE
TZID:Europe/Madrid
BEGIN:DAYLIGHT
TZOFFSETFROM:+0100
TZOFFSETTO:+0200
TZNAME:CEST
DTSTART:20220327T010000
END:DAYLIGHT
BEGIN:STANDARD
TZOFFSETFROM:+0200
TZOFFSETTO:+0100
TZNAME:CET
DTSTART:20221030T010000
END:STANDARD
END:VTIMEZONE
BEGIN:VEVENT
DTSTART;VALUE=DATE:20220311
DTEND;VALUE=DATE:20220331
DTSTAMP:20260423T213036
CREATED:20220208T222657Z
LAST-MODIFIED:20220301T210605Z
UID:7868-1646956800-1648601999@isabelpividori.net
SUMMARY:Deliverable 2. Designing a PCR test for the detection of SARS-CoV-2
DESCRIPTION:
URL:https://isabelpividori.net/event/deliverable-1-designing-a-pcr-test-for-the-detection-of-sars-cov-2/
LOCATION:Online activity
CATEGORIES:Bioanalytical Chemistry in Grade of Chemistry
ATTACH;FMTTYPE=image/jpeg:https://isabelpividori.net/wp-content/uploads/2021/01/E0F6AB45-4443-4891-8ACE-41ABB4E209DE.jpeg
ORGANIZER;CN="Mar%C3%ADa Isabel Pividori":MAILTO:isabel.pividori@uab.cat
END:VEVENT
BEGIN:VEVENT
DTSTART;TZID=Europe/Madrid:20220325T120000
DTEND;TZID=Europe/Madrid:20220325T130000
DTSTAMP:20260423T213036
CREATED:20220207T191710Z
LAST-MODIFIED:20220322T083143Z
UID:7861-1648209600-1648213200@isabelpividori.net
SUMMARY:Instrumental techniques for the detection of biomolecules. Spectrophotometry and Fluorimetry. Part 3
DESCRIPTION:
URL:https://isabelpividori.net/event/instrumental-techniques-for-the-detection-of-biomolecules-spectrophotometry-and-fluorimetry-part-3-2/
LOCATION:Room C3/012. Facultat de Ciències UAB\, UAB\, Bellaterra\, Barcelona\, 08193\, Spain
CATEGORIES:Bioanalytical Chemistry in Grade of Chemistry
ATTACH;FMTTYPE=image/jpeg:https://isabelpividori.net/wp-content/uploads/2021/06/31D968D8-0D59-4BE7-939A-A8CE2BD84561.jpeg
ORGANIZER;CN="Mar%C3%ADa Isabel Pividori":MAILTO:isabel.pividori@uab.cat
END:VEVENT
BEGIN:VEVENT
DTSTART;TZID=Europe/Madrid:20220325T120000
DTEND;TZID=Europe/Madrid:20220325T130000
DTSTAMP:20260423T213036
CREATED:20220207T192624Z
LAST-MODIFIED:20220213T091437Z
UID:7863-1648209600-1648213200@isabelpividori.net
SUMMARY:Tutorial Meeting first term
DESCRIPTION:
URL:https://isabelpividori.net/event/tutorial-meeting-first-term/
LOCATION:Room C3/012. Facultat de Ciències UAB\, UAB\, Bellaterra\, Barcelona\, 08193\, Spain
CATEGORIES:Bioanalytical Chemistry in Grade of Chemistry
ATTACH;FMTTYPE=image/png:https://isabelpividori.net/wp-content/uploads/2022/02/Captura-de-pantalla-2022-02-13-a-las-10.11.38.png
ORGANIZER;CN="Mar%C3%ADa Isabel Pividori":MAILTO:isabel.pividori@uab.cat
END:VEVENT
END:VCALENDAR