BEGIN:VCALENDAR
VERSION:2.0
PRODID:-//María Isabel Pividori - ECPv6.3.5//NONSGML v1.0//EN
CALSCALE:GREGORIAN
METHOD:PUBLISH
X-ORIGINAL-URL:https://isabelpividori.net
X-WR-CALDESC:Events for María Isabel Pividori
REFRESH-INTERVAL;VALUE=DURATION:PT1H
X-Robots-Tag:noindex
X-PUBLISHED-TTL:PT1H
BEGIN:VTIMEZONE
TZID:Europe/Madrid
BEGIN:DAYLIGHT
TZOFFSETFROM:+0100
TZOFFSETTO:+0200
TZNAME:CEST
DTSTART:20220327T010000
END:DAYLIGHT
BEGIN:STANDARD
TZOFFSETFROM:+0200
TZOFFSETTO:+0100
TZNAME:CET
DTSTART:20221030T010000
END:STANDARD
END:VTIMEZONE
BEGIN:VEVENT
DTSTART;TZID=Europe/Madrid:20220524T110000
DTEND;TZID=Europe/Madrid:20220524T120000
DTSTAMP:20260421T115937
CREATED:20220213T083222Z
LAST-MODIFIED:20220213T083223Z
UID:7939-1653390000-1653393600@isabelpividori.net
SUMMARY:Introduction to Rapid Diagnostic Tests. Part 2
DESCRIPTION:
URL:https://isabelpividori.net/event/introduction-to-rapid-diagnostic-tests-part-2/
LOCATION:Room C3/012. Facultat de Ciències UAB\, UAB\, Bellaterra\, Barcelona\, 08193\, Spain
CATEGORIES:Bioanalytical Chemistry in Grade of Chemistry
ATTACH;FMTTYPE=image/webp:https://isabelpividori.net/wp-content/uploads/2022/02/thequint-fit-2018-12-d76f70f7-a25a-40c5-b96b-5afd52ab20af-0f536a25_fe82_4d3b_88c9_01ff2c3eeee8.jpg.webp
ORGANIZER;CN="Mar%C3%ADa Isabel Pividori":MAILTO:isabel.pividori@uab.cat
END:VEVENT
END:VCALENDAR