BEGIN:VCALENDAR
VERSION:2.0
PRODID:-//María Isabel Pividori - ECPv6.3.5//NONSGML v1.0//EN
CALSCALE:GREGORIAN
METHOD:PUBLISH
X-ORIGINAL-URL:https://isabelpividori.net
X-WR-CALDESC:Events for María Isabel Pividori
REFRESH-INTERVAL;VALUE=DURATION:PT1H
X-Robots-Tag:noindex
X-PUBLISHED-TTL:PT1H
BEGIN:VTIMEZONE
TZID:Europe/Madrid
BEGIN:DAYLIGHT
TZOFFSETFROM:+0100
TZOFFSETTO:+0200
TZNAME:CEST
DTSTART:20260329T010000
END:DAYLIGHT
BEGIN:STANDARD
TZOFFSETFROM:+0200
TZOFFSETTO:+0100
TZNAME:CET
DTSTART:20261025T010000
END:STANDARD
END:VTIMEZONE
BEGIN:VEVENT
DTSTART;TZID=Europe/Madrid:20260422T100000
DTEND;TZID=Europe/Madrid:20260422T110000
DTSTAMP:20260419T140647
CREATED:20230210T175812Z
LAST-MODIFIED:20260210T105121Z
UID:8916-1776852000-1776855600@isabelpividori.net
SUMMARY:Structure of biomolecules and Biorecognition. Enzymes
DESCRIPTION:
URL:https://isabelpividori.net/event/structure-of-biomolecules-and-biorecognition-enzymes-3/
LOCATION:Room C3b/111. Facultat de Ciències UAB\, UAB\, Bellaterra\, 08193\, Spain
CATEGORIES:Bioanalytical Chemistry in Grade of Chemistry
ATTACH;FMTTYPE=image/png:https://isabelpividori.net/wp-content/uploads/2020/02/0B53F25B-1FD4-4BFE-A3B7-140FFB880D2D-e1554243455266-300x202.png
ORGANIZER;CN="Mar%C3%ADa Isabel Pividori":MAILTO:isabel.pividori@uab.cat
END:VEVENT
END:VCALENDAR