BEGIN:VCALENDAR
VERSION:2.0
PRODID:-//María Isabel Pividori - ECPv6.3.5//NONSGML v1.0//EN
CALSCALE:GREGORIAN
METHOD:PUBLISH
X-ORIGINAL-URL:https://isabelpividori.net
X-WR-CALDESC:Events for María Isabel Pividori
REFRESH-INTERVAL;VALUE=DURATION:PT1H
X-Robots-Tag:noindex
X-PUBLISHED-TTL:PT1H
BEGIN:VTIMEZONE
TZID:Europe/Madrid
BEGIN:DAYLIGHT
TZOFFSETFROM:+0100
TZOFFSETTO:+0200
TZNAME:CEST
DTSTART:20260329T010000
END:DAYLIGHT
BEGIN:STANDARD
TZOFFSETFROM:+0200
TZOFFSETTO:+0100
TZNAME:CET
DTSTART:20261025T010000
END:STANDARD
END:VTIMEZONE
BEGIN:VEVENT
DTSTART;TZID=Europe/Madrid:20260518T100000
DTEND;TZID=Europe/Madrid:20260518T110000
DTSTAMP:20260419T153931
CREATED:20230210T183638Z
LAST-MODIFIED:20260210T124955Z
UID:8942-1779098400-1779102000@isabelpividori.net
SUMMARY:Immunoassay. Part 3
DESCRIPTION:
URL:https://isabelpividori.net/event/immunoassay-part-3-3/
LOCATION:Room C3b/111. Facultat de Ciències UAB\, UAB\, Bellaterra\, 08193\, Spain
CATEGORIES:Bioanalytical Chemistry in Grade of Chemistry
ATTACH;FMTTYPE=image/jpeg:https://isabelpividori.net/wp-content/uploads/2019/04/A1220E7A-CFCB-435A-ACC1-174AC76E73C1.jpeg
ORGANIZER;CN="Mar%C3%ADa Isabel Pividori":MAILTO:isabel.pividori@uab.cat
END:VEVENT
END:VCALENDAR