BEGIN:VCALENDAR
VERSION:2.0
PRODID:-//María Isabel Pividori - ECPv6.3.5//NONSGML v1.0//EN
CALSCALE:GREGORIAN
METHOD:PUBLISH
X-WR-CALNAME:María Isabel Pividori
X-ORIGINAL-URL:https://isabelpividori.net
X-WR-CALDESC:Events for María Isabel Pividori
REFRESH-INTERVAL;VALUE=DURATION:PT1H
X-Robots-Tag:noindex
X-PUBLISHED-TTL:PT1H
BEGIN:VTIMEZONE
TZID:Europe/Madrid
BEGIN:DAYLIGHT
TZOFFSETFROM:+0100
TZOFFSETTO:+0200
TZNAME:CEST
DTSTART:20260329T010000
END:DAYLIGHT
BEGIN:STANDARD
TZOFFSETFROM:+0200
TZOFFSETTO:+0100
TZNAME:CET
DTSTART:20261025T010000
END:STANDARD
END:VTIMEZONE
BEGIN:VEVENT
DTSTART;TZID=Europe/Madrid:20260519T100000
DTEND;TZID=Europe/Madrid:20260519T110000
DTSTAMP:20260419T153109
CREATED:20230210T183856Z
LAST-MODIFIED:20260210T125054Z
UID:8944-1779184800-1779188400@isabelpividori.net
SUMMARY:Immunoassay. Part 4
DESCRIPTION:
URL:https://isabelpividori.net/event/immunoassay-part-4-3/
LOCATION:Room C3b/111. Facultat de Ciències UAB\, UAB\, Bellaterra\, 08193\, Spain
CATEGORIES:Bioanalytical Chemistry in Grade of Chemistry
ATTACH;FMTTYPE=image/jpeg:https://isabelpividori.net/wp-content/uploads/2019/04/12B9C83B-953E-495C-AE39-2AA8322103A7-e1554367765277.jpeg
ORGANIZER;CN="Mar%C3%ADa Isabel Pividori":MAILTO:isabel.pividori@uab.cat
END:VEVENT
BEGIN:VEVENT
DTSTART;TZID=Europe/Madrid:20260519T110000
DTEND;TZID=Europe/Madrid:20260519T235900
DTSTAMP:20260419T153109
CREATED:20230210T184119Z
LAST-MODIFIED:20260210T130011Z
UID:8946-1779188400-1779235140@isabelpividori.net
SUMMARY:QUIZ 6. Antibodies structure\, production and immunoassays
DESCRIPTION:
URL:https://isabelpividori.net/event/quiz-6-antibodies-structure-production-and-immunoassays-2/
LOCATION:Online activity
CATEGORIES:Bioanalytical Chemistry in Grade of Chemistry
ATTACH;FMTTYPE=image/jpeg:https://isabelpividori.net/wp-content/uploads/2021/01/images-2.jpeg
ORGANIZER;CN="Mar%C3%ADa Isabel Pividori":MAILTO:isabel.pividori@uab.cat
END:VEVENT
END:VCALENDAR