BEGIN:VCALENDAR
VERSION:2.0
PRODID:-//María Isabel Pividori - ECPv6.3.5//NONSGML v1.0//EN
CALSCALE:GREGORIAN
METHOD:PUBLISH
X-ORIGINAL-URL:https://isabelpividori.net
X-WR-CALDESC:Events for María Isabel Pividori
REFRESH-INTERVAL;VALUE=DURATION:PT1H
X-Robots-Tag:noindex
X-PUBLISHED-TTL:PT1H
BEGIN:VTIMEZONE
TZID:Europe/Madrid
BEGIN:DAYLIGHT
TZOFFSETFROM:+0100
TZOFFSETTO:+0200
TZNAME:CEST
DTSTART:20260329T010000
END:DAYLIGHT
BEGIN:STANDARD
TZOFFSETFROM:+0200
TZOFFSETTO:+0100
TZNAME:CET
DTSTART:20261025T010000
END:STANDARD
END:VTIMEZONE
BEGIN:VEVENT
DTSTART;TZID=Europe/Madrid:20260526T100000
DTEND;TZID=Europe/Madrid:20260526T110000
DTSTAMP:20260419T153358
CREATED:20230210T184734Z
LAST-MODIFIED:20260210T130603Z
UID:8952-1779789600-1779793200@isabelpividori.net
SUMMARY:Laboratory introduction meeting
DESCRIPTION:
URL:https://isabelpividori.net/event/laboratory-introduction-meeting-2/
LOCATION:Room C3b/111. Facultat de Ciències UAB\, UAB\, Bellaterra\, 08193\, Spain
CATEGORIES:Bioanalytical Chemistry in Grade of Chemistry
ATTACH;FMTTYPE=image/png:https://isabelpividori.net/wp-content/uploads/2022/02/Captura-de-pantalla-2022-02-13-a-las-13.03.00.png
ORGANIZER;CN="Mar%C3%ADa Isabel Pividori":MAILTO:isabel.pividori@uab.cat
END:VEVENT
BEGIN:VEVENT
DTSTART;TZID=Europe/Madrid:20260526T150000
DTEND;TZID=Europe/Madrid:20260526T190000
DTSTAMP:20260419T153358
CREATED:20230210T184946Z
LAST-MODIFIED:20260210T131127Z
UID:8954-1779807600-1779822000@isabelpividori.net
SUMMARY:Bioanalytical Chemistry Laboratory. Practicum PRO
DESCRIPTION:
URL:https://isabelpividori.net/event/bioanalytical-chemistry-laboratory-2022-practicum-pro/
LOCATION:C7/030 – Laboratori de docència – Facultat de Ciències UAB\, UAB\, Bellaterra\, Barcelona\, 08193\, Spain
CATEGORIES:Bioanalytical Chemistry in Grade of Chemistry
ATTACH;FMTTYPE=image/jpeg:https://isabelpividori.net/wp-content/uploads/2021/06/8B78BED5-F7B3-4B9A-ACB6-92E17E3FE616.jpeg
ORGANIZER;CN="Mar%C3%ADa Isabel Pividori":MAILTO:isabel.pividori@uab.cat
END:VEVENT
END:VCALENDAR