BEGIN:VCALENDAR
VERSION:2.0
PRODID:-//María Isabel Pividori - ECPv6.3.5//NONSGML v1.0//EN
CALSCALE:GREGORIAN
METHOD:PUBLISH
X-WR-CALNAME:María Isabel Pividori
X-ORIGINAL-URL:https://isabelpividori.net
X-WR-CALDESC:Events for María Isabel Pividori
REFRESH-INTERVAL;VALUE=DURATION:PT1H
X-Robots-Tag:noindex
X-PUBLISHED-TTL:PT1H
BEGIN:VTIMEZONE
TZID:Europe/Madrid
BEGIN:DAYLIGHT
TZOFFSETFROM:+0100
TZOFFSETTO:+0200
TZNAME:CEST
DTSTART:20210328T010000
END:DAYLIGHT
BEGIN:STANDARD
TZOFFSETFROM:+0200
TZOFFSETTO:+0100
TZNAME:CET
DTSTART:20211031T010000
END:STANDARD
END:VTIMEZONE
BEGIN:VEVENT
DTSTART;VALUE=DATE:20210317
DTEND;VALUE=DATE:20210406
DTSTAMP:20260423T192822
CREATED:20210123T223535Z
LAST-MODIFIED:20210319T151134Z
UID:4656-1615939200-1617584399@isabelpividori.net
SUMMARY:Deliverable 2. Designing a PCR test for the detection of SARS-CoV-2
DESCRIPTION:
URL:https://isabelpividori.net/event/deliverable-2-designing-a-pcr-test-for-coronavirus-outbreak-sars-cov-2/
LOCATION:UAB\, Universitat Autònoma de Barcelona\, Bellaterra\, Barcelona\, 08193\, Spain
CATEGORIES:Bioanalytical Chemistry in Grade of Chemistry
ATTACH;FMTTYPE=image/jpeg:https://isabelpividori.net/wp-content/uploads/2021/01/E0F6AB45-4443-4891-8ACE-41ABB4E209DE.jpeg
ORGANIZER;CN="Mar%C3%ADa Isabel Pividori":MAILTO:isabel.pividori@uab.cat
END:VEVENT
BEGIN:VEVENT
DTSTART;TZID=Europe/Madrid:20210406T100000
DTEND;TZID=Europe/Madrid:20210406T110000
DTSTAMP:20260423T192822
CREATED:20210123T193033Z
LAST-MODIFIED:20210322T074910Z
UID:4569-1617703200-1617706800@isabelpividori.net
SUMMARY:Second follow-up meeting. Bioanalytical Chemistry 2021
DESCRIPTION:
URL:https://isabelpividori.net/event/mid-term-meeting-2/
LOCATION:UAB\, Universitat Autònoma de Barcelona\, Bellaterra\, Barcelona\, 08193\, Spain
CATEGORIES:Bioanalytical Chemistry in Grade of Chemistry
ATTACH;FMTTYPE=image/jpeg:https://isabelpividori.net/wp-content/uploads/2020/05/online-meeting.jpg
ORGANIZER;CN="Mar%C3%ADa Isabel Pividori":MAILTO:isabel.pividori@uab.cat
END:VEVENT
BEGIN:VEVENT
DTSTART;TZID=Europe/Madrid:20210406T103000
DTEND;TZID=Europe/Madrid:20210407T005900
DTSTAMP:20260423T192822
CREATED:20210123T182846Z
LAST-MODIFIED:20210125T202307Z
UID:4565-1617705000-1617757140@isabelpividori.net
SUMMARY:QUIZ 4. DNA analysis. DNA amplification. PCR and Q-PCR
DESCRIPTION:
URL:https://isabelpividori.net/event/quiz-4-dna-analysis-dna-amplification-pcr-and-q-pcr/
LOCATION:UAB\, Universitat Autònoma de Barcelona\, Bellaterra\, Barcelona\, 08193\, Spain
CATEGORIES:Bioanalytical Chemistry in Grade of Chemistry
ATTACH;FMTTYPE=image/jpeg:https://isabelpividori.net/wp-content/uploads/2021/01/images-2.jpeg
ORGANIZER;CN="Mar%C3%ADa Isabel Pividori":MAILTO:isabel.pividori@uab.cat
END:VEVENT
BEGIN:VEVENT
DTSTART;TZID=Europe/Madrid:20210407T100000
DTEND;TZID=Europe/Madrid:20210407T110000
DTSTAMP:20260423T192822
CREATED:20210123T193508Z
LAST-MODIFIED:20210323T211612Z
UID:4571-1617789600-1617793200@isabelpividori.net
SUMMARY:Instrumental techniques for the detection of biomolecules. Spectrophotometry and Fluorimetry. Part 1
DESCRIPTION:
URL:https://isabelpividori.net/event/nstrumental-techniques-for-the-detection-of-biomolecules-spectrophotometry-and-fluorimetry-part-1/
LOCATION:UAB\, Universitat Autònoma de Barcelona\, Bellaterra\, Barcelona\, 08193\, Spain
CATEGORIES:Bioanalytical Chemistry in Grade of Chemistry
ATTACH;FMTTYPE=image/png:https://isabelpividori.net/wp-content/uploads/2019/04/5FAD18E5-81E3-4205-A181-B075FF5A7D53-e1554365858690.png
ORGANIZER;CN="Mar%C3%ADa Isabel Pividori":MAILTO:isabel.pividori@uab.cat
END:VEVENT
BEGIN:VEVENT
DTSTART;TZID=Europe/Madrid:20210409T100000
DTEND;TZID=Europe/Madrid:20210409T110000
DTSTAMP:20260423T192822
CREATED:20210123T193749Z
LAST-MODIFIED:20210323T203536Z
UID:4574-1617962400-1617966000@isabelpividori.net
SUMMARY:Instrumental techniques for the detection of biomolecules. Spectrophotometry and Fluorimetry. Part 2
DESCRIPTION:
URL:https://isabelpividori.net/event/nstrumental-techniques-for-the-detection-of-biomolecules-spectrophotometry-and-fluorimetry-part-2/
LOCATION:UAB\, Universitat Autònoma de Barcelona\, Bellaterra\, Barcelona\, 08193\, Spain
CATEGORIES:Bioanalytical Chemistry in Grade of Chemistry
ATTACH;FMTTYPE=image/png:https://isabelpividori.net/wp-content/uploads/2019/04/72190026-FE92-4B54-99FD-463C3DC17B91-e1554363492594.png
ORGANIZER;CN="Mar%C3%ADa Isabel Pividori":MAILTO:isabel.pividori@uab.cat
END:VEVENT
BEGIN:VEVENT
DTSTART;TZID=Europe/Madrid:20210422T100000
DTEND;TZID=Europe/Madrid:20210422T110000
DTSTAMP:20260423T192822
CREATED:20210414T075923Z
LAST-MODIFIED:20210414T075923Z
UID:6374-1619085600-1619089200@isabelpividori.net
SUMMARY:Tutoring Bioanalytical Chemistry
DESCRIPTION:
URL:https://isabelpividori.net/event/tutoring-bioanalytical-chemistry/
LOCATION:UAB\, Universitat Autònoma de Barcelona\, Bellaterra\, Barcelona\, 08193\, Spain
CATEGORIES:Bioanalytical Chemistry in Grade of Chemistry
ATTACH;FMTTYPE=image/jpeg:https://isabelpividori.net/wp-content/uploads/2020/05/online-meeting.jpg
ORGANIZER;CN="Mar%C3%ADa Isabel Pividori":MAILTO:isabel.pividori@uab.cat
END:VEVENT
BEGIN:VEVENT
DTSTART;TZID=Europe/Madrid:20210423T091000
DTEND;TZID=Europe/Madrid:20210423T120000
DTSTAMP:20260423T192822
CREATED:20210417T200830Z
LAST-MODIFIED:20210417T202218Z
UID:6416-1619169000-1619179200@isabelpividori.net
SUMMARY:Mid-term test Bioanalytical Chemistry 2021
DESCRIPTION:
URL:https://isabelpividori.net/event/mid-term-test-bioanalytical-chemistry-2021/
LOCATION:UAB\, Universitat Autònoma de Barcelona\, Bellaterra\, Barcelona\, 08193\, Spain
CATEGORIES:Bioanalytical Chemistry in Grade of Chemistry
ATTACH;FMTTYPE=image/jpeg:https://isabelpividori.net/wp-content/uploads/2021/01/exam_preparation_tips.jpeg
ORGANIZER;CN="Mar%C3%ADa Isabel Pividori":MAILTO:isabel.pividori@uab.cat
END:VEVENT
BEGIN:VEVENT
DTSTART;TZID=Europe/Madrid:20210423T100000
DTEND;TZID=Europe/Madrid:20210423T130000
DTSTAMP:20260423T192822
CREATED:20210123T194348Z
LAST-MODIFIED:20210417T200949Z
UID:4580-1619172000-1619182800@isabelpividori.net
SUMMARY:Join the mid-term test in Teams
DESCRIPTION:
URL:https://isabelpividori.net/event/mid-term-test/
LOCATION:UAB\, Universitat Autònoma de Barcelona\, Bellaterra\, Barcelona\, 08193\, Spain
CATEGORIES:Bioanalytical Chemistry in Grade of Chemistry
ATTACH;FMTTYPE=image/jpeg:https://isabelpividori.net/wp-content/uploads/2020/05/online-meeting.jpg
ORGANIZER;CN="Mar%C3%ADa Isabel Pividori":MAILTO:isabel.pividori@uab.cat
END:VEVENT
BEGIN:VEVENT
DTSTART;VALUE=DATE:20210426
DTEND;VALUE=DATE:20210511
DTSTAMP:20260423T192822
CREATED:20210124T084404Z
LAST-MODIFIED:20210410T100933Z
UID:4686-1619398800-1620608399@isabelpividori.net
SUMMARY:Deliverable 3. 2008 milk scandal
DESCRIPTION:
URL:https://isabelpividori.net/event/deliverable-3-2008-milk-scandal/
LOCATION:UAB\, Universitat Autònoma de Barcelona\, Bellaterra\, Barcelona\, 08193\, Spain
CATEGORIES:Bioanalytical Chemistry in Grade of Chemistry
ATTACH;FMTTYPE=image/png:https://isabelpividori.net/wp-content/uploads/2020/05/may2018homepage_0.png
ORGANIZER;CN="Mar%C3%ADa Isabel Pividori":MAILTO:isabel.pividori@uab.cat
END:VEVENT
BEGIN:VEVENT
DTSTART;TZID=Europe/Madrid:20210427T100000
DTEND;TZID=Europe/Madrid:20210427T110000
DTSTAMP:20260423T192822
CREATED:20210123T200219Z
LAST-MODIFIED:20210323T203659Z
UID:4588-1619517600-1619521200@isabelpividori.net
SUMMARY:Instrumental techniques for the detection of biomolecules. Spectrophotometry and Fluorimetry. Part 3
DESCRIPTION:
URL:https://isabelpividori.net/event/instrumental-techniques-for-the-detection-of-biomolecules-spectrophotometry-and-fluorimetry-part-3/
LOCATION:UAB\, Universitat Autònoma de Barcelona\, Bellaterra\, Barcelona\, 08193\, Spain
CATEGORIES:Bioanalytical Chemistry in Grade of Chemistry
ATTACH;FMTTYPE=image/jpeg:https://isabelpividori.net/wp-content/uploads/2019/03/glowing-2245832_1920.jpg
ORGANIZER;CN="Mar%C3%ADa Isabel Pividori":MAILTO:isabel.pividori@uab.cat
END:VEVENT
BEGIN:VEVENT
DTSTART;TZID=Europe/Madrid:20210428T100000
DTEND;TZID=Europe/Madrid:20210428T110000
DTSTAMP:20260423T192822
CREATED:20210123T195002Z
LAST-MODIFIED:20210323T205113Z
UID:4582-1619604000-1619607600@isabelpividori.net
SUMMARY:Structure of biomolecules and Biorecognition. Enzymes
DESCRIPTION:
URL:https://isabelpividori.net/event/structure-of-biomolecules-and-biorecognition-enzymes/
LOCATION:UAB\, Universitat Autònoma de Barcelona\, Bellaterra\, Barcelona\, 08193\, Spain
CATEGORIES:Bioanalytical Chemistry in Grade of Chemistry
ATTACH;FMTTYPE=image/png:https://isabelpividori.net/wp-content/uploads/2019/04/0B53F25B-1FD4-4BFE-A3B7-140FFB880D2D-e1554243455266.png
ORGANIZER;CN="Mar%C3%ADa Isabel Pividori":MAILTO:isabel.pividori@uab.cat
END:VEVENT
BEGIN:VEVENT
DTSTART;TZID=Europe/Madrid:20210430T100000
DTEND;TZID=Europe/Madrid:20210430T110000
DTSTAMP:20260423T192822
CREATED:20210123T195320Z
LAST-MODIFIED:20210323T204924Z
UID:4584-1619776800-1619780400@isabelpividori.net
SUMMARY:Enzymatic analysis. Part 1
DESCRIPTION:
URL:https://isabelpividori.net/event/enzymatic-analysis-part-1/
LOCATION:UAB\, Universitat Autònoma de Barcelona\, Bellaterra\, Barcelona\, 08193\, Spain
CATEGORIES:Bioanalytical Chemistry in Grade of Chemistry
ATTACH;FMTTYPE=image/png:https://isabelpividori.net/wp-content/uploads/2019/04/6256F017-50E5-4697-9029-1F68841604C6-e1554364480720.png
ORGANIZER;CN="Mar%C3%ADa Isabel Pividori":MAILTO:isabel.pividori@uab.cat
END:VEVENT
END:VCALENDAR