BEGIN:VCALENDAR
VERSION:2.0
PRODID:-//María Isabel Pividori - ECPv6.3.5//NONSGML v1.0//EN
CALSCALE:GREGORIAN
METHOD:PUBLISH
X-WR-CALNAME:María Isabel Pividori
X-ORIGINAL-URL:https://isabelpividori.net
X-WR-CALDESC:Events for María Isabel Pividori
REFRESH-INTERVAL;VALUE=DURATION:PT1H
X-Robots-Tag:noindex
X-PUBLISHED-TTL:PT1H
BEGIN:VTIMEZONE
TZID:Europe/Madrid
BEGIN:DAYLIGHT
TZOFFSETFROM:+0100
TZOFFSETTO:+0200
TZNAME:CEST
DTSTART:20210328T010000
END:DAYLIGHT
BEGIN:STANDARD
TZOFFSETFROM:+0200
TZOFFSETTO:+0100
TZNAME:CET
DTSTART:20211031T010000
END:STANDARD
END:VTIMEZONE
BEGIN:VEVENT
DTSTART;VALUE=DATE:20210426
DTEND;VALUE=DATE:20210511
DTSTAMP:20260423T212934
CREATED:20210124T084404Z
LAST-MODIFIED:20210410T100933Z
UID:4686-1619398800-1620608399@isabelpividori.net
SUMMARY:Deliverable 3. 2008 milk scandal
DESCRIPTION:
URL:https://isabelpividori.net/event/deliverable-3-2008-milk-scandal/
LOCATION:UAB\, Universitat Autònoma de Barcelona\, Bellaterra\, Barcelona\, 08193\, Spain
CATEGORIES:Bioanalytical Chemistry in Grade of Chemistry
ATTACH;FMTTYPE=image/png:https://isabelpividori.net/wp-content/uploads/2020/05/may2018homepage_0.png
ORGANIZER;CN="Mar%C3%ADa Isabel Pividori":MAILTO:isabel.pividori@uab.cat
END:VEVENT
BEGIN:VEVENT
DTSTART;TZID=Europe/Madrid:20210504T100000
DTEND;TZID=Europe/Madrid:20210504T110000
DTSTAMP:20260423T212934
CREATED:20210123T195539Z
LAST-MODIFIED:20210323T204148Z
UID:4586-1620122400-1620126000@isabelpividori.net
SUMMARY:Enzymatic analysis. Part 2
DESCRIPTION:
URL:https://isabelpividori.net/event/enzymatic-analysis-part-2/
LOCATION:UAB\, Universitat Autònoma de Barcelona\, Bellaterra\, Barcelona\, 08193\, Spain
CATEGORIES:Bioanalytical Chemistry in Grade of Chemistry
ATTACH;FMTTYPE=image/png:https://isabelpividori.net/wp-content/uploads/2019/04/D0AAFE43-7C9A-46C2-BFA5-274331B38DAF-e1554366147386.png
ORGANIZER;CN="Mar%C3%ADa Isabel Pividori":MAILTO:isabel.pividori@uab.cat
END:VEVENT
BEGIN:VEVENT
DTSTART;TZID=Europe/Madrid:20210505T100000
DTEND;TZID=Europe/Madrid:20210505T110000
DTSTAMP:20260423T212934
CREATED:20210123T200824Z
LAST-MODIFIED:20210323T204622Z
UID:4590-1620208800-1620212400@isabelpividori.net
SUMMARY:Enzymatic analysis. Part 3
DESCRIPTION:
URL:https://isabelpividori.net/event/enzymatic-analysis-part-2-2/
LOCATION:UAB\, Universitat Autònoma de Barcelona\, Bellaterra\, Barcelona\, 08193\, Spain
CATEGORIES:Bioanalytical Chemistry in Grade of Chemistry
ATTACH;FMTTYPE=image/jpeg:https://isabelpividori.net/wp-content/uploads/2019/04/B3FD164E-FD0F-4D2B-8B07-55FEA0D45798.jpeg
ORGANIZER;CN="Mar%C3%ADa Isabel Pividori":MAILTO:isabel.pividori@uab.cat
END:VEVENT
BEGIN:VEVENT
DTSTART;TZID=Europe/Madrid:20210507T100000
DTEND;TZID=Europe/Madrid:20210507T110000
DTSTAMP:20260423T212934
CREATED:20210123T201234Z
LAST-MODIFIED:20210323T204753Z
UID:4593-1620381600-1620385200@isabelpividori.net
SUMMARY:Enzymatic analysis. Part 4
DESCRIPTION:
URL:https://isabelpividori.net/event/enzymatic-analysis-part-3/
LOCATION:UAB\, Universitat Autònoma de Barcelona\, Bellaterra\, Barcelona\, 08193\, Spain
ATTACH;FMTTYPE=image/png:https://isabelpividori.net/wp-content/uploads/2019/04/5FAD18E5-81E3-4205-A181-B075FF5A7D53-e1554365858690.png
ORGANIZER;CN="Mar%C3%ADa Isabel Pividori":MAILTO:isabel.pividori@uab.cat
END:VEVENT
BEGIN:VEVENT
DTSTART;TZID=Europe/Madrid:20210511T100000
DTEND;TZID=Europe/Madrid:20210511T110000
DTSTAMP:20260423T212934
CREATED:20210124T195743Z
LAST-MODIFIED:20210323T204515Z
UID:4744-1620727200-1620730800@isabelpividori.net
SUMMARY:Enzymatic analysis. Part 5
DESCRIPTION:
URL:https://isabelpividori.net/event/enzymatic-analysis-part-5/
LOCATION:UAB\, Universitat Autònoma de Barcelona\, Bellaterra\, Barcelona\, 08193\, Spain
CATEGORIES:Bioanalytical Chemistry in Grade of Chemistry
ATTACH;FMTTYPE=image/jpeg:https://isabelpividori.net/wp-content/uploads/2019/03/test-214185_1280.jpg
ORGANIZER;CN="Mar%C3%ADa Isabel Pividori":MAILTO:isabel.pividori@uab.cat
END:VEVENT
BEGIN:VEVENT
DTSTART;TZID=Europe/Madrid:20210512T100000
DTEND;TZID=Europe/Madrid:20210512T110000
DTSTAMP:20260423T212934
CREATED:20210123T202027Z
LAST-MODIFIED:20210511T200506Z
UID:4598-1620813600-1620817200@isabelpividori.net
SUMMARY:Third follow-up meeting. Bioanalytical Chemistry 2021
DESCRIPTION:
URL:https://isabelpividori.net/event/follow-up-meeting-2/
LOCATION:UAB\, Universitat Autònoma de Barcelona\, Bellaterra\, Barcelona\, 08193\, Spain
CATEGORIES:Bioanalytical Chemistry in Grade of Chemistry
ATTACH;FMTTYPE=image/jpeg:https://isabelpividori.net/wp-content/uploads/2020/05/online-meeting.jpg
ORGANIZER;CN="Mar%C3%ADa Isabel Pividori":MAILTO:isabel.pividori@uab.cat
END:VEVENT
BEGIN:VEVENT
DTSTART;TZID=Europe/Madrid:20210512T103000
DTEND;TZID=Europe/Madrid:20210513T005900
DTSTAMP:20260423T212934
CREATED:20210123T201613Z
LAST-MODIFIED:20210205T060423Z
UID:4595-1620815400-1620867540@isabelpividori.net
SUMMARY:QUIZ 5. Enzymes
DESCRIPTION:
URL:https://isabelpividori.net/event/quiz-5-enzyme-structure-and-enzymatic-analysis/
LOCATION:UAB\, Universitat Autònoma de Barcelona\, Bellaterra\, Barcelona\, 08193\, Spain
CATEGORIES:Bioanalytical Chemistry in Grade of Chemistry
ATTACH;FMTTYPE=image/jpeg:https://isabelpividori.net/wp-content/uploads/2021/01/images-2.jpeg
ORGANIZER;CN="Mar%C3%ADa Isabel Pividori":MAILTO:isabel.pividori@uab.cat
END:VEVENT
BEGIN:VEVENT
DTSTART;TZID=Europe/Madrid:20210514T100000
DTEND;TZID=Europe/Madrid:20210514T110000
DTSTAMP:20260423T212934
CREATED:20210123T202340Z
LAST-MODIFIED:20210323T205251Z
UID:4601-1620986400-1620990000@isabelpividori.net
SUMMARY:Production of monoclonal and polyclonal antibodies. Part 1
DESCRIPTION:
URL:https://isabelpividori.net/event/production-of-monoclonal-and-polyclonal-antibodies-part-1/
LOCATION:UAB\, Universitat Autònoma de Barcelona\, Bellaterra\, Barcelona\, 08193\, Spain
CATEGORIES:Bioanalytical Chemistry in Grade of Chemistry
ATTACH;FMTTYPE=image/jpeg:https://isabelpividori.net/wp-content/uploads/2019/04/BB2B7B83-85B4-4AE0-8DA1-3D8D06022F91.jpeg
ORGANIZER;CN="Mar%C3%ADa Isabel Pividori":MAILTO:isabel.pividori@uab.cat
END:VEVENT
BEGIN:VEVENT
DTSTART;VALUE=DATE:20210517
DTEND;VALUE=DATE:20210601
DTSTAMP:20260423T212934
CREATED:20210124T092935Z
LAST-MODIFIED:20210521T093912Z
UID:4703-1621213200-1622422799@isabelpividori.net
SUMMARY:Deliverable 4. Immunoassay\, step by step
DESCRIPTION:
URL:https://isabelpividori.net/event/deliverable-4-immunoassay-step-by-step/
LOCATION:UAB\, Universitat Autònoma de Barcelona\, Bellaterra\, Barcelona\, 08193\, Spain
CATEGORIES:Bioanalytical Chemistry in Grade of Chemistry
ATTACH;FMTTYPE=image/png:https://isabelpividori.net/wp-content/uploads/2021/01/Captura-de-pantalla-2021-05-18-a-las-12.11.58.png
ORGANIZER;CN="Mar%C3%ADa Isabel Pividori":MAILTO:isabel.pividori@uab.cat
END:VEVENT
BEGIN:VEVENT
DTSTART;TZID=Europe/Madrid:20210518T100000
DTEND;TZID=Europe/Madrid:20210518T110000
DTSTAMP:20260423T212934
CREATED:20210123T202624Z
LAST-MODIFIED:20210323T205623Z
UID:4603-1621332000-1621335600@isabelpividori.net
SUMMARY:Production of monoclonal and polyclonal antibodies. Part 2
DESCRIPTION:
URL:https://isabelpividori.net/event/production-of-monoclonal-and-polyclonal-antibodies-part-2/
LOCATION:UAB\, Universitat Autònoma de Barcelona\, Bellaterra\, Barcelona\, 08193\, Spain
CATEGORIES:Bioanalytical Chemistry in Grade of Chemistry
ATTACH;FMTTYPE=image/jpeg:https://isabelpividori.net/wp-content/uploads/2019/04/06CEAA51-ECE3-4DA6-884E-8CB38E83E041.jpeg
ORGANIZER;CN="Mar%C3%ADa Isabel Pividori":MAILTO:isabel.pividori@uab.cat
END:VEVENT
BEGIN:VEVENT
DTSTART;TZID=Europe/Madrid:20210519T100000
DTEND;TZID=Europe/Madrid:20210519T110000
DTSTAMP:20260423T212934
CREATED:20210123T204315Z
LAST-MODIFIED:20210323T205734Z
UID:4607-1621418400-1621422000@isabelpividori.net
SUMMARY:Immunoassay. Part 1
DESCRIPTION:
URL:https://isabelpividori.net/event/immunoassay-part-2/
LOCATION:UAB\, Universitat Autònoma de Barcelona\, Bellaterra\, Barcelona\, 08193\, Spain
CATEGORIES:Bioanalytical Chemistry in Grade of Chemistry
ATTACH;FMTTYPE=image/jpeg:https://isabelpividori.net/wp-content/uploads/2019/04/DD7E8E16-C5BB-43F0-9B58-B84EFC2A23E7.jpeg
ORGANIZER;CN="Mar%C3%ADa Isabel Pividori":MAILTO:isabel.pividori@uab.cat
END:VEVENT
BEGIN:VEVENT
DTSTART;TZID=Europe/Madrid:20210521T100000
DTEND;TZID=Europe/Madrid:20210521T110000
DTSTAMP:20260423T212934
CREATED:20210123T204459Z
LAST-MODIFIED:20210323T212405Z
UID:4611-1621591200-1621594800@isabelpividori.net
SUMMARY:Immunoassay. Part 2
DESCRIPTION:
URL:https://isabelpividori.net/event/immunoassay-part-3/
LOCATION:UAB\, Universitat Autònoma de Barcelona\, Bellaterra\, Barcelona\, 08193\, Spain
CATEGORIES:Bioanalytical Chemistry in Grade of Chemistry
ATTACH;FMTTYPE=image/jpeg:https://isabelpividori.net/wp-content/uploads/2019/04/27E51551-7CD6-40A4-8895-A8D05227B544.jpeg
ORGANIZER;CN="Mar%C3%ADa Isabel Pividori":MAILTO:isabel.pividori@uab.cat
END:VEVENT
BEGIN:VEVENT
DTSTART;TZID=Europe/Madrid:20210525T100000
DTEND;TZID=Europe/Madrid:20210525T110000
DTSTAMP:20260423T212934
CREATED:20210123T203903Z
LAST-MODIFIED:20210323T212302Z
UID:4605-1621936800-1621940400@isabelpividori.net
SUMMARY:Immunoassay. Part 3
DESCRIPTION:
URL:https://isabelpividori.net/event/immunoassay-part-1-2/
LOCATION:UAB\, Universitat Autònoma de Barcelona\, Bellaterra\, Barcelona\, 08193\, Spain
CATEGORIES:Bioanalytical Chemistry in Grade of Chemistry
ATTACH;FMTTYPE=image/jpeg:https://isabelpividori.net/wp-content/uploads/2019/04/A1220E7A-CFCB-435A-ACC1-174AC76E73C1.jpeg
ORGANIZER;CN="Mar%C3%ADa Isabel Pividori":MAILTO:isabel.pividori@uab.cat
END:VEVENT
BEGIN:VEVENT
DTSTART;TZID=Europe/Madrid:20210526T100000
DTEND;TZID=Europe/Madrid:20210526T110000
DTSTAMP:20260423T212934
CREATED:20210123T204730Z
LAST-MODIFIED:20210323T212202Z
UID:4613-1622023200-1622026800@isabelpividori.net
SUMMARY:Immunoassay. Part 4
DESCRIPTION:
URL:https://isabelpividori.net/event/immunoassay-part-4/
LOCATION:UAB\, Universitat Autònoma de Barcelona\, Bellaterra\, Barcelona\, 08193\, Spain
CATEGORIES:Bioanalytical Chemistry in Grade of Chemistry
ATTACH;FMTTYPE=image/jpeg:https://isabelpividori.net/wp-content/uploads/2019/04/12B9C83B-953E-495C-AE39-2AA8322103A7-e1554367765277.jpeg
ORGANIZER;CN="Mar%C3%ADa Isabel Pividori":MAILTO:isabel.pividori@uab.cat
END:VEVENT
BEGIN:VEVENT
DTSTART;TZID=Europe/Madrid:20210528T100000
DTEND;TZID=Europe/Madrid:20210528T110000
DTSTAMP:20260423T212934
CREATED:20210124T201930Z
LAST-MODIFIED:20210323T220630Z
UID:4749-1622196000-1622199600@isabelpividori.net
SUMMARY:Introduction to Rapid Diagnostic Tests
DESCRIPTION:
URL:https://isabelpividori.net/event/introduction-to-rapid-diagnostic-tests/
LOCATION:UAB\, Universitat Autònoma de Barcelona\, Bellaterra\, Barcelona\, 08193\, Spain
CATEGORIES:Bioanalytical Chemistry in Grade of Chemistry
ATTACH;FMTTYPE=image/jpeg:https://isabelpividori.net/wp-content/uploads/2020/05/OSC_Microbio_20_04_Torch.jpg
ORGANIZER;CN="Mar%C3%ADa Isabel Pividori":MAILTO:isabel.pividori@uab.cat
END:VEVENT
END:VCALENDAR